BEGIN:VCALENDAR
PRODID:-//eluceo/ical//2.0/EN
VERSION:2.0
CALSCALE:GREGORIAN
BEGIN:VEVENT
UID:7652b61298a90286708a864c4aa44f74
DTSTAMP:20260421T094540Z
SUMMARY:”Jag gjorde en prognos om finansmarknaderna 2024… Vad hände ..
 . och vad kommer härnäst” Ali N.
DESCRIPTION:Webbplats: https://vallentuna.rotary2350.se/sv/\nTalare: \n\nAl
 i gjorde en prognos 2024 – nu följer han upp vad som hänt och vad som 
 kan komma härnäst.\n\n
URL:https://vallentuna.rotary2355.se/sv/agenda/show/218042
DTSTART;TZID=Europe/Zurich:20260417T073000
DTEND;TZID=Europe/Zurich:20260417T083000
LOCATION:Vallentuna Kulturhus\, stora mötesrummet\, Vallentuna Kulturhus\,
  Allévägen 1-3\, 18686 Vallentuna\, Sverige
CATEGORIES:Rotary
END:VEVENT
BEGIN:VTIMEZONE
TZID:Europe/Zurich
BEGIN:DAYLIGHT
DTSTART:20260417T073000
TZNAME:CEST
TZOFFSETTO:+0200
TZOFFSETFROM:+0200
END:DAYLIGHT
END:VTIMEZONE
END:VCALENDAR
