BEGIN:VCALENDAR
PRODID:-//eluceo/ical//2.0/EN
VERSION:2.0
CALSCALE:GREGORIAN
BEGIN:VEVENT
UID:f7d3b5044f99843a5590dde604d0a93c
DTSTAMP:20260421T094433Z
SUMMARY:MILJÖ
DESCRIPTION:Webbplats: https://vallentuna.rotary2350.se/sv/\nTalare: Fa Sta
 dsarkitekt Sune Johansson berättar och svarar på frågor kring "miljö"
URL:https://vallentuna.rotary2355.se/sv/agenda/show/218043
DTSTART;TZID=Europe/Zurich:20260424T073000
DTEND;TZID=Europe/Zurich:20260424T083000
LOCATION:Vallentuna Kulturhus\, stora mötesrummet\, Vallentuna Kulturhus\,
  Allévägen 1-3\, 18686 Vallentuna\, Sverige
CATEGORIES:Rotary
END:VEVENT
BEGIN:VTIMEZONE
TZID:Europe/Zurich
BEGIN:DAYLIGHT
DTSTART:20260424T073000
TZNAME:CEST
TZOFFSETTO:+0200
TZOFFSETFROM:+0200
END:DAYLIGHT
END:VTIMEZONE
END:VCALENDAR
