BEGIN:VCALENDAR
PRODID:-//eluceo/ical//2.0/EN
VERSION:2.0
CALSCALE:GREGORIAN
BEGIN:VEVENT
UID:e12e47b29be10ae24c83169714bd10f4
DTSTAMP:20260419T142112Z
SUMMARY:Föredragsansvarig Curth M/ Vallentuna Golfklubb lunch
DESCRIPTION:Talare: Lunchmöte på Vallentuna Golfklubb.
URL:https://vallentuna.rotary2355.se/sv/agenda/show/218045
DTSTART;TZID=Europe/Zurich:20260508T120000
DTEND;TZID=Europe/Zurich:20260508T130000
LOCATION:Vallentuna Golfklubb\, Veda 1\, 18694 Vallentuna\, Sverige
CATEGORIES:Rotary
END:VEVENT
BEGIN:VTIMEZONE
TZID:Europe/Zurich
BEGIN:DAYLIGHT
DTSTART:20260508T120000
TZNAME:CEST
TZOFFSETTO:+0200
TZOFFSETFROM:+0200
END:DAYLIGHT
END:VTIMEZONE
END:VCALENDAR
